BEGIN:VCALENDAR
VERSION:2.0
PRODID:-//Plone.org//NONSGML plone.app.event//EN
X-WR-TIMEZONE:Europe/Rome
BEGIN:VEVENT
SUMMARY:Sips of Science – One Too Many Suns
DTSTART;TZID=Europe/Rome;VALUE=DATE-TIME:20250613T170000
DTEND;TZID=Europe/Rome;VALUE=DATE-TIME:20250613T193000
DTSTAMP;VALUE=DATE-TIME:20260425T130302Z
UID:2c52d5a7a05e4a6cb9ec58d2d2fb54b6@distal.unibo.it
CREATED;VALUE=DATE-TIME:20250610T073458Z
DESCRIPTION:Festa d'estate del DISTAL | Music\, Dance\, Science
LAST-MODIFIED;VALUE=DATE-TIME:20250610T073736Z
URL:https://distal.unibo.it/it/eventi/one-too-many-suns
END:VEVENT
BEGIN:VTIMEZONE
TZID:Europe/Rome
X-LIC-LOCATION:Europe/Rome
BEGIN:DAYLIGHT
DTSTART;VALUE=DATE-TIME:20250330T030000
TZNAME:CEST
TZOFFSETFROM:+0100
TZOFFSETTO:+0200
END:DAYLIGHT
END:VTIMEZONE
END:VCALENDAR
