BEGIN:VCALENDAR
VERSION:2.0
PRODID:-//Plone.org//NONSGML plone.app.event//EN
X-WR-TIMEZONE:Europe/Rome
BEGIN:VEVENT
SUMMARY:Open Science Corner
DTSTART;TZID=Europe/Rome;VALUE=DATE-TIME:20250319T140000
DTEND;TZID=Europe/Rome;VALUE=DATE-TIME:20250319T153000
DTSTAMP;VALUE=DATE-TIME:20260423T035119Z
UID:7f6dd294760e439f86ca77aed6353111@distal.unibo.it
CREATED;VALUE=DATE-TIME:20250306T171826Z
DESCRIPTION:La parola ai FAIR champion - Costruzione di software per la ri
 cerca ed esperimenti in silico riproducibili: buone pratiche
LAST-MODIFIED;VALUE=DATE-TIME:20250306T172400Z
URL:https://distal.unibo.it/it/eventi/open-science-corner
END:VEVENT
BEGIN:VTIMEZONE
TZID:Europe/Rome
X-LIC-LOCATION:Europe/Rome
BEGIN:STANDARD
DTSTART;VALUE=DATE-TIME:20241027T020000
TZNAME:CET
TZOFFSETFROM:+0200
TZOFFSETTO:+0100
END:STANDARD
END:VTIMEZONE
END:VCALENDAR
