BEGIN:VCALENDAR
VERSION:2.0
PRODID:-//Plone.org//NONSGML plone.app.event//EN
X-WR-TIMEZONE:Europe/Rome
BEGIN:VEVENT
SUMMARY:OpenDISTAL 5 giugno 2019
DTSTART;TZID=Europe/Rome;VALUE=DATE-TIME:20190605T093000
DTEND;TZID=Europe/Rome;VALUE=DATE-TIME:20190605T181500
DTSTAMP;VALUE=DATE-TIME:20260419T164828Z
UID:c533d1f04628404c8d9df682842ec38f@distal.unibo.it
CREATED;VALUE=DATE-TIME:20190331T132917Z
DESCRIPTION:Una giornata di incontri tra ricercatori\, enti e imprese del 
 settore agro-alimentare
LAST-MODIFIED;VALUE=DATE-TIME:20190605T052515Z
URL:https://distal.unibo.it/it/eventi/opendistal-5-giugno-2019
END:VEVENT
BEGIN:VTIMEZONE
TZID:Europe/Rome
X-LIC-LOCATION:Europe/Rome
BEGIN:DAYLIGHT
DTSTART;VALUE=DATE-TIME:20190331T030000
TZNAME:CEST
TZOFFSETFROM:+0100
TZOFFSETTO:+0200
END:DAYLIGHT
END:VTIMEZONE
END:VCALENDAR
