BEGIN:VCALENDAR
VERSION:2.0
PRODID:-//Plone.org//NONSGML plone.app.event//EN
X-WR-TIMEZONE:Europe/Rome
BEGIN:VEVENT
SUMMARY:Parliamo naturalmente di paesaggio… e di come lo vedono gli imol
 esi
DTSTART;TZID=Europe/Rome;VALUE=DATE-TIME:20230509T173000
DTEND;TZID=Europe/Rome;VALUE=DATE-TIME:20230509T190000
DTSTAMP;VALUE=DATE-TIME:20260422T134843Z
UID:ccbed2adf5df4095b4dcb6c93b150632@distal.unibo.it
CREATED;VALUE=DATE-TIME:20230502T092503Z
DESCRIPTION:Iniziativa promossa nell’ambito di “Naturalmente Imola” 
 | Referente: Daniele Torreggiani
LAST-MODIFIED;VALUE=DATE-TIME:20230502T093105Z
URL:https://distal.unibo.it/it/eventi/parliamo-naturalmente-di-paesaggio
END:VEVENT
BEGIN:VTIMEZONE
TZID:Europe/Rome
X-LIC-LOCATION:Europe/Rome
BEGIN:DAYLIGHT
DTSTART;VALUE=DATE-TIME:20230326T030000
TZNAME:CEST
TZOFFSETFROM:+0100
TZOFFSETTO:+0200
END:DAYLIGHT
END:VTIMEZONE
END:VCALENDAR
