BEGIN:VCALENDAR
VERSION:2.0
PRODID:-//Plone.org//NONSGML plone.app.event//EN
X-WR-TIMEZONE:Europe/Rome
BEGIN:VEVENT
SUMMARY:Plasma freddo: soluzioni innovative per le sfide moderne
DTSTART;TZID=Europe/Rome;VALUE=DATE-TIME:20251113T090000
DTEND;TZID=Europe/Rome;VALUE=DATE-TIME:20251113T110000
DTSTAMP;VALUE=DATE-TIME:20260425T015834Z
UID:79a541d06d0740059e27644bec42b422@distal.unibo.it
CREATED;VALUE=DATE-TIME:20251113T081910Z
DESCRIPTION:Seminario volto da Federico Drudi nell’ambito del Corso di L
 aurea in Tecnologie Alimentari | Referente: Urszula Tylewicz
LAST-MODIFIED;VALUE=DATE-TIME:20251113T081934Z
URL:https://distal.unibo.it/it/eventi/plasma-freddo-soluzioni-innovative-p
 er-le-sfide-moderne
END:VEVENT
BEGIN:VTIMEZONE
TZID:Europe/Rome
X-LIC-LOCATION:Europe/Rome
BEGIN:STANDARD
DTSTART;VALUE=DATE-TIME:20251026T020000
TZNAME:CET
TZOFFSETFROM:+0200
TZOFFSETTO:+0100
END:STANDARD
END:VTIMEZONE
END:VCALENDAR
