BEGIN:VCALENDAR
VERSION:2.0
PRODID:-//Plone.org//NONSGML plone.app.event//EN
X-WR-TIMEZONE:Europe/Rome
BEGIN:VEVENT
SUMMARY:Quinta Giornata mondiale di consapevolezza degli sprechi e perdite
  alimentari
DTSTART;VALUE=DATE:20240916
DTEND;VALUE=DATE:20240917
DTSTAMP;VALUE=DATE-TIME:20260419T152620Z
UID:2eb9b97dda734862aaf02e22ce5abe3c@distal.unibo.it
CREATED;VALUE=DATE-TIME:20240827T111039Z
DESCRIPTION:Presentazione del IV Rapporto dell'Osservatorio Internazionale
  Waste Watcher | Referente: Luca Falasconi
LAST-MODIFIED;VALUE=DATE-TIME:20240827T111450Z
URL:https://distal.unibo.it/it/eventi/quinta-giornata-mondiale-di-consapev
 olezza-degli-sprechi-e-perdite-alimentari
END:VEVENT
END:VCALENDAR
