BEGIN:VCALENDAR
VERSION:2.0
PRODID:-//Plone.org//NONSGML plone.app.event//EN
X-WR-TIMEZONE:Europe/Rome
BEGIN:VEVENT
SUMMARY:Research and Innovation in Sacco System
DTSTART;TZID=Europe/Rome;VALUE=DATE-TIME:20251118T110000
DTEND;TZID=Europe/Rome;VALUE=DATE-TIME:20251118T130000
DTSTAMP;VALUE=DATE-TIME:20260426T010129Z
UID:a13abd5ff05c41c689b90f1494676d4c@distal.unibo.it
CREATED;VALUE=DATE-TIME:20251022T084350Z
DESCRIPTION:Fabio Dal Bello sarà ospite presso la sede di Cesena per un s
 eminario dedicato agli studenti del 2° anno del Corso LM in Scienze e Tec
 nologie Alimentari | Referente: Rosalba Lanciotti
LAST-MODIFIED;VALUE=DATE-TIME:20251117T085332Z
URL:https://distal.unibo.it/it/eventi/research-and-innovation-in-sacco-sys
 tem
END:VEVENT
BEGIN:VTIMEZONE
TZID:Europe/Rome
X-LIC-LOCATION:Europe/Rome
BEGIN:STANDARD
DTSTART;VALUE=DATE-TIME:20251026T020000
TZNAME:CET
TZOFFSETFROM:+0200
TZOFFSETTO:+0100
END:STANDARD
END:VTIMEZONE
END:VCALENDAR
