BEGIN:VCALENDAR
VERSION:2.0
PRODID:-//Plone.org//NONSGML plone.app.event//EN
X-WR-TIMEZONE:Europe/Rome
BEGIN:VEVENT
SUMMARY:Role of in situ atmospheric observations in studying the carbon cy
 cle
DTSTART;TZID=Europe/Rome;VALUE=DATE-TIME:20240716T110000
DTEND;TZID=Europe/Rome;VALUE=DATE-TIME:20240716T130000
DTSTAMP;VALUE=DATE-TIME:20260421T185115Z
UID:0271ae0d77d143898cf8a73c9b663398@distal.unibo.it
CREATED;VALUE=DATE-TIME:20240531T135956Z
DESCRIPTION:Referente: Livia Vittori Antisari
LAST-MODIFIED;VALUE=DATE-TIME:20240531T140053Z
URL:https://distal.unibo.it/it/eventi/role-of-in-situ-atmospheric-observat
 ions-in-studying-the-carbon-cycle
END:VEVENT
BEGIN:VTIMEZONE
TZID:Europe/Rome
X-LIC-LOCATION:Europe/Rome
BEGIN:DAYLIGHT
DTSTART;VALUE=DATE-TIME:20240331T030000
TZNAME:CEST
TZOFFSETFROM:+0100
TZOFFSETTO:+0200
END:DAYLIGHT
END:VTIMEZONE
END:VCALENDAR
