BEGIN:VCALENDAR
VERSION:2.0
PRODID:-//Plone.org//NONSGML plone.app.event//EN
X-WR-TIMEZONE:Europe/Rome
BEGIN:VEVENT
SUMMARY:"SCOPRI COSA MANGI CON IL DNA"
DTSTART;VALUE=DATE:20181109
DTEND;VALUE=DATE:20181110
DTSTAMP;VALUE=DATE-TIME:20260421T123700Z
UID:a0987d72d40541c2879e2719d082f203@distal.unibo.it
CREATED;VALUE=DATE-TIME:20181022T064330Z
DESCRIPTION:1° evento live nazionale di divulgazione scientifica di Focus
LAST-MODIFIED;VALUE=DATE-TIME:20181022T064349Z
URL:https://distal.unibo.it/it/eventi/scopri-cosa-mangi-con-il-dna
END:VEVENT
END:VCALENDAR
