BEGIN:VCALENDAR
VERSION:2.0
PRODID:-//Plone.org//NONSGML plone.app.event//EN
X-WR-TIMEZONE:Europe/Rome
BEGIN:VEVENT
SUMMARY:Securing Agriculture in a Changing Climate: WaterEnergy-Food Nexus
  Solutions for Global Sustainability
DTSTART;TZID=Europe/Rome;VALUE=DATE-TIME:20250610T090000
DTEND;TZID=Europe/Rome;VALUE=DATE-TIME:20250610T180000
DTSTAMP;VALUE=DATE-TIME:20260420T131903Z
UID:e987e29cd40d4892b216a5bd10ebbf75@distal.unibo.it
CREATED;VALUE=DATE-TIME:20250530T094453Z
DESCRIPTION:#eugreenweek | Referente: Francesca Valenti
LAST-MODIFIED;VALUE=DATE-TIME:20250609T122447Z
URL:https://distal.unibo.it/it/eventi/securing-agriculture-in-a-changing-c
 limate-waterenergy-food-nexus-solutions-for-global-sustainability
END:VEVENT
BEGIN:VTIMEZONE
TZID:Europe/Rome
X-LIC-LOCATION:Europe/Rome
BEGIN:DAYLIGHT
DTSTART;VALUE=DATE-TIME:20250330T030000
TZNAME:CEST
TZOFFSETFROM:+0100
TZOFFSETTO:+0200
END:DAYLIGHT
END:VTIMEZONE
END:VCALENDAR
