BEGIN:VCALENDAR
VERSION:2.0
PRODID:-//Plone.org//NONSGML plone.app.event//EN
X-WR-TIMEZONE:Europe/Rome
BEGIN:VEVENT
SUMMARY:Seminario: "Moving away from Equilibrium: from Molecular Balances 
 to Transmembrane Nanodevices"
DTSTART;VALUE=DATE:20181106
DTEND;VALUE=DATE:20181107
DTSTAMP;VALUE=DATE-TIME:20260419T153934Z
UID:f6a3ae46ea304d32acb99d481b9267f2@distal.unibo.it
CREATED;VALUE=DATE-TIME:20181102T065741Z
LAST-MODIFIED;VALUE=DATE-TIME:20181102T065800Z
URL:https://distal.unibo.it/it/eventi/seminario-moving-away-from-equilibri
 um-from-molecular-balances-to-transmembrane-nanodevices
END:VEVENT
END:VCALENDAR
