BEGIN:VCALENDAR
VERSION:2.0
PRODID:-//Plone.org//NONSGML plone.app.event//EN
X-WR-TIMEZONE:Europe/Rome
BEGIN:VEVENT
SUMMARY:STAAA PhD at Expo 2025: From Bologna to Osaka
DTSTART;VALUE=DATE:20250921
DTEND;VALUE=DATE:20250928
DTSTAMP;VALUE=DATE-TIME:20260421T013016Z
UID:c941ea8c2be64108a9c30a323db57363@distal.unibo.it
CREATED;VALUE=DATE-TIME:20250911T102439Z
DESCRIPTION:DISTAL contributes to Emilia-Romagna Week with an initiative o
 n food system sustainability\, food waste and consumer behaviour | Referen
 te: Valeria Musso
LAST-MODIFIED;VALUE=DATE-TIME:20250911T102702Z
URL:https://distal.unibo.it/it/eventi/staaa-phd-at-expo-2025-from-bologna-
 to-osaka-1
END:VEVENT
END:VCALENDAR
