BEGIN:VCALENDAR
VERSION:2.0
PRODID:-//Plone.org//NONSGML plone.app.event//EN
X-WR-TIMEZONE:Europe/Rome
BEGIN:VEVENT
SUMMARY:Symposium: Optimizing analysis of longitudinal\, high resolution b
 ehavioural data”.
DTSTART;TZID=Europe/Rome;VALUE=DATE-TIME:20240517T100000
DTEND;TZID=Europe/Rome;VALUE=DATE-TIME:20240517T110000
DTSTAMP;VALUE=DATE-TIME:20260420T223610Z
UID:62cbc1c05eab424fbbfa5a8c529b483d@distal.unibo.it
CREATED;VALUE=DATE-TIME:20240516T155413Z
DESCRIPTION:Symposium organized within the Measuring Behavior Conference\,
  in collaboration with the COST Action “European Network on Livestock Ph
 enomics – EU-LI-PHE | Referente: Luca Fontanesi
LAST-MODIFIED;VALUE=DATE-TIME:20240517T151043Z
URL:https://distal.unibo.it/it/eventi/symposium-optimizing-analysis-of-lon
 gitudinal-high-resolution-behavioural-data
END:VEVENT
BEGIN:VTIMEZONE
TZID:Europe/Rome
X-LIC-LOCATION:Europe/Rome
BEGIN:DAYLIGHT
DTSTART;VALUE=DATE-TIME:20240331T030000
TZNAME:CEST
TZOFFSETFROM:+0100
TZOFFSETTO:+0200
END:DAYLIGHT
END:VTIMEZONE
END:VCALENDAR
