BEGIN:VCALENDAR
VERSION:2.0
PRODID:-//Plone.org//NONSGML plone.app.event//EN
X-WR-TIMEZONE:Europe/Rome
BEGIN:VEVENT
SUMMARY:Tavola Rotonda: "Insetti e biodiversità"
DTSTART;TZID=Europe/Rome;VALUE=DATE-TIME:20190316T103000
DTEND;TZID=Europe/Rome;VALUE=DATE-TIME:20190316T123000
DTSTAMP;VALUE=DATE-TIME:20260421T155022Z
UID:7a9adbb87a2843e382e7150e0403988d@distal.unibo.it
CREATED;VALUE=DATE-TIME:20190318T120547Z
DESCRIPTION:Apertura della Casa delle Farfalle di Milano Marittima
LAST-MODIFIED;VALUE=DATE-TIME:20190318T120715Z
URL:https://distal.unibo.it/it/eventi/tavola-rotonda-insetti-e-biodiversit
 a
END:VEVENT
BEGIN:VTIMEZONE
TZID:Europe/Rome
X-LIC-LOCATION:Europe/Rome
BEGIN:STANDARD
DTSTART;VALUE=DATE-TIME:20181028T020000
TZNAME:CET
TZOFFSETFROM:+0200
TZOFFSETTO:+0100
END:STANDARD
END:VTIMEZONE
END:VCALENDAR
