BEGIN:VCALENDAR
VERSION:2.0
PRODID:-//Plone.org//NONSGML plone.app.event//EN
X-WR-TIMEZONE:Europe/Rome
BEGIN:VEVENT
SUMMARY:The 11th European Conference on Precision Livestock Farming  – P
 resentation of the European Network on Livestock Phenomics (EU-LI-PHE)
DTSTART;VALUE=DATE:20240909
DTEND;VALUE=DATE:20240913
DTSTAMP;VALUE=DATE-TIME:20260420T144959Z
UID:c9342e323e9c4d0ab36380210470173c@distal.unibo.it
CREATED;VALUE=DATE-TIME:20240827T112655Z
DESCRIPTION:Luca Fontanesi: “European Network on Livestock Phenomics: an
  international initiative to boost high throughput phenotyping for applica
 tions in precision livestock farming and animal breeding”
LAST-MODIFIED;VALUE=DATE-TIME:20240905T150542Z
URL:https://distal.unibo.it/it/eventi/the-11th-european-conference-on-prec
 ision-livestock-farming-presentation-of-the-european-network-on-livestock-
 phenomics-eu-li-phe
END:VEVENT
END:VCALENDAR
