BEGIN:VCALENDAR
VERSION:2.0
PRODID:-//Plone.org//NONSGML plone.app.event//EN
X-WR-TIMEZONE:Europe/Rome
BEGIN:VEVENT
SUMMARY:The 75th EAAP Annual Meeting
DTSTART;TZID=Europe/Rome;VALUE=DATE-TIME:20240901T083000
DTEND;TZID=Europe/Rome;VALUE=DATE-TIME:20240905T180000
DTSTAMP;VALUE=DATE-TIME:20260425T033430Z
UID:60c2c47eeba64045844d244d5734c2d0@distal.unibo.it
CREATED;VALUE=DATE-TIME:20240827T134027Z
DESCRIPTION:Chair of the Session "Genetics of food quality"\; presenting "
 Genomic selection tools for within- and across- herd management in livesto
 ck species" | Referente: Giuseppina Schiavo
LAST-MODIFIED;VALUE=DATE-TIME:20240827T134605Z
URL:https://distal.unibo.it/it/eventi/the-75th-eaap-annual-meeting
END:VEVENT
BEGIN:VTIMEZONE
TZID:Europe/Rome
X-LIC-LOCATION:Europe/Rome
BEGIN:DAYLIGHT
DTSTART;VALUE=DATE-TIME:20240331T030000
TZNAME:CEST
TZOFFSETFROM:+0100
TZOFFSETTO:+0200
END:DAYLIGHT
END:VTIMEZONE
END:VCALENDAR
