BEGIN:VCALENDAR
VERSION:2.0
PRODID:-//Plone.org//NONSGML plone.app.event//EN
X-WR-TIMEZONE:Europe/Rome
BEGIN:VEVENT
SUMMARY:The 9th International Congress of  Rabbit Biotechnology   and Larg
 e Animal Models for  Translational Research
DTSTART;VALUE=DATE:20240809
DTEND;VALUE=DATE:20240813
DTSTAMP;VALUE=DATE-TIME:20260420T161941Z
UID:cbff13a5e557424fb568a215d1d3f265@distal.unibo.it
CREATED;VALUE=DATE-TIME:20240716T144157Z
DESCRIPTION:Invited Speaker: Luca Fontanesi from DISTAL. Lecture entitled:
  “Rabbit genomics comes of age: exploring and  exploiting the diversity 
 of different rabbit genetic resources
LAST-MODIFIED;VALUE=DATE-TIME:20240716T144518Z
URL:https://distal.unibo.it/it/eventi/the-9th-international-congress-of-ra
 bbit-biotechnology-and-large-animal-models-for-translational-research-1
END:VEVENT
END:VCALENDAR
