BEGIN:VCALENDAR
VERSION:2.0
PRODID:-//Plone.org//NONSGML plone.app.event//EN
X-WR-TIMEZONE:Europe/Rome
BEGIN:VEVENT
SUMMARY:TRAINING COURSE ON “GENOMICS-ASSISTED BREEDING OF WHEAT” 
DTSTART;VALUE=DATE:20191028
DTEND;VALUE=DATE:20191030
DTSTAMP;VALUE=DATE-TIME:20260421T140806Z
UID:4f7d94b83616400cb6640200b57c1b02@distal.unibo.it
CREATED;VALUE=DATE-TIME:20191028T133630Z
LAST-MODIFIED;VALUE=DATE-TIME:20191028T133649Z
URL:https://distal.unibo.it/it/eventi/training-course-on-201cgenomics-assi
 sted-breeding-of-wheat201d
END:VEVENT
END:VCALENDAR
