BEGIN:VCALENDAR
VERSION:2.0
PRODID:-//Plone.org//NONSGML plone.app.event//EN
X-WR-TIMEZONE:Europe/Rome
BEGIN:VEVENT
SUMMARY:Training school on "Monitoring spatiotemporal changes in global ch
 ange drivers and their effects on semiarid woodlands and forests"
DTSTART;VALUE=DATE:20240506
DTEND;VALUE=DATE:20240510
DTSTAMP;VALUE=DATE-TIME:20260420T224150Z
UID:1dfbcab94e464a20ace93ecd1a159b24@distal.unibo.it
CREATED;VALUE=DATE-TIME:20240429T074943Z
DESCRIPTION:First Training school organized within the CLEANFOREST COST Ac
 tion – Rossella Guerrieri from DISTAL in the scientific committee and am
 ong the trainers
LAST-MODIFIED;VALUE=DATE-TIME:20240429T113819Z
URL:https://distal.unibo.it/it/eventi/training-school-on-monitoring-spatio
 temporal-changes-in-global-change-drivers-and-their-effects-onsemiarid-woo
 dlands-and-forests
END:VEVENT
END:VCALENDAR
