BEGIN:VCALENDAR
VERSION:2.0
PRODID:-//Plone.org//NONSGML plone.app.event//EN
X-WR-TIMEZONE:Europe/Rome
BEGIN:VEVENT
SUMMARY:Upscaling of Agricultural Wastes into Value-Added Products
DTSTART;TZID=Europe/Rome;VALUE=DATE-TIME:20250611T140000
DTEND;TZID=Europe/Rome;VALUE=DATE-TIME:20250611T153000
DTSTAMP;VALUE=DATE-TIME:20260420T131715Z
UID:f7587ba823b442ada6b4f69058cb9a15@distal.unibo.it
CREATED;VALUE=DATE-TIME:20250528T073932Z
DESCRIPTION:Seminario con Praveen Kolar - Biological and Agricultural Engi
 neering North Carolina State University\, Raleigh\, USA | Referente: Diana
  Di Gioia
LAST-MODIFIED;VALUE=DATE-TIME:20250528T093317Z
URL:https://distal.unibo.it/it/eventi/upscaling-of-agricultural-wastes-int
 o-value-added-products
END:VEVENT
BEGIN:VTIMEZONE
TZID:Europe/Rome
X-LIC-LOCATION:Europe/Rome
BEGIN:DAYLIGHT
DTSTART;VALUE=DATE-TIME:20250330T030000
TZNAME:CEST
TZOFFSETFROM:+0100
TZOFFSETTO:+0200
END:DAYLIGHT
END:VTIMEZONE
END:VCALENDAR
