BEGIN:VCALENDAR
VERSION:2.0
PRODID:-//Plone.org//NONSGML plone.app.event//EN
X-WR-TIMEZONE:Europe/Rome
BEGIN:VEVENT
SUMMARY:UrbanFarm2022: student Rendez-vous di Dicembre
DTSTART;TZID=Europe/Rome;VALUE=DATE-TIME:20211210T170000
DTEND;TZID=Europe/Rome;VALUE=DATE-TIME:20211210T180000
DTSTAMP;VALUE=DATE-TIME:20260420T161752Z
UID:353255861ddb4c2e9ee8156f4be5ebe4@distal.unibo.it
CREATED;VALUE=DATE-TIME:20211123T083150Z
DESCRIPTION:Incontri formativi multidisciplinari indirizzati ai partecipan
 ti della quarta edizione dell’International Student Challenge “Urban F
 arm”
LAST-MODIFIED;VALUE=DATE-TIME:20211123T083418Z
URL:https://distal.unibo.it/it/eventi/urbanfarm2022-student-rendez-vous-di
 -dicembre
END:VEVENT
BEGIN:VTIMEZONE
TZID:Europe/Rome
X-LIC-LOCATION:Europe/Rome
BEGIN:STANDARD
DTSTART;VALUE=DATE-TIME:20211031T020000
TZNAME:CET
TZOFFSETFROM:+0200
TZOFFSETTO:+0100
END:STANDARD
END:VTIMEZONE
END:VCALENDAR
