BEGIN:VCALENDAR
VERSION:2.0
PRODID:-//Plone.org//NONSGML plone.app.event//EN
X-WR-TIMEZONE:Europe/Rome
BEGIN:VEVENT
SUMMARY:Verso il G7 Ambiente - parliamone ad Agraria
DTSTART;TZID=Europe/Rome;VALUE=DATE-TIME:20170525T143000
DTEND;TZID=Europe/Rome;VALUE=DATE-TIME:20170529T143000
DTSTAMP;VALUE=DATE-TIME:20260419T152322Z
UID:579003d4a4bd4e4cbe77aebb4741b2b1@distal.unibo.it
CREATED;VALUE=DATE-TIME:20170525T103721Z
LAST-MODIFIED;VALUE=DATE-TIME:20170525T103735Z
URL:https://distal.unibo.it/it/eventi/verso-il-g7-ambiente-parliamone-ad-a
 graria
END:VEVENT
BEGIN:VTIMEZONE
TZID:Europe/Rome
X-LIC-LOCATION:Europe/Rome
BEGIN:DAYLIGHT
DTSTART;VALUE=DATE-TIME:20170326T030000
TZNAME:CEST
TZOFFSETFROM:+0100
TZOFFSETTO:+0200
END:DAYLIGHT
END:VTIMEZONE
END:VCALENDAR
