BEGIN:VCALENDAR
VERSION:2.0
PRODID:-//Plone.org//NONSGML plone.app.event//EN
X-WR-TIMEZONE:Europe/Rome
BEGIN:VEVENT
SUMMARY:Verso il secondo vertice ONU sui sistemi alimentari: l'Italia pres
 enta Agritech
DTSTART;TZID=Europe/Rome;VALUE=DATE-TIME:20230527T100000
DTEND;TZID=Europe/Rome;VALUE=DATE-TIME:20230527T133000
DTSTAMP;VALUE=DATE-TIME:20260420T155430Z
UID:2138388838a74700829049461f056841@distal.unibo.it
CREATED;VALUE=DATE-TIME:20230510T104610Z
DESCRIPTION:Referente: Luca Corelli Grappadelli
LAST-MODIFIED;VALUE=DATE-TIME:20230510T104715Z
URL:https://distal.unibo.it/it/eventi/verso-il-secondo-vertice-onu-sui-sis
 temi-alimentari-l-italia-presenta-agritech
END:VEVENT
BEGIN:VTIMEZONE
TZID:Europe/Rome
X-LIC-LOCATION:Europe/Rome
BEGIN:DAYLIGHT
DTSTART;VALUE=DATE-TIME:20230326T030000
TZNAME:CEST
TZOFFSETFROM:+0100
TZOFFSETTO:+0200
END:DAYLIGHT
END:VTIMEZONE
END:VCALENDAR
